BEGIN:VCALENDAR
VERSION:2.0
PRODID:-//Collective Data - ECPv6.15.13//NONSGML v1.0//EN
CALSCALE:GREGORIAN
METHOD:PUBLISH
X-WR-CALNAME:Collective Data
X-ORIGINAL-URL:https://collectivedata.com
X-WR-CALDESC:Events for Collective Data
REFRESH-INTERVAL;VALUE=DURATION:PT1H
X-Robots-Tag:noindex
X-PUBLISHED-TTL:PT1H
BEGIN:VTIMEZONE
TZID:America/Chicago
BEGIN:DAYLIGHT
TZOFFSETFROM:-0600
TZOFFSETTO:-0500
TZNAME:CDT
DTSTART:20250309T080000
END:DAYLIGHT
BEGIN:STANDARD
TZOFFSETFROM:-0500
TZOFFSETTO:-0600
TZNAME:CST
DTSTART:20251102T070000
END:STANDARD
BEGIN:DAYLIGHT
TZOFFSETFROM:-0600
TZOFFSETTO:-0500
TZNAME:CDT
DTSTART:20260308T080000
END:DAYLIGHT
BEGIN:STANDARD
TZOFFSETFROM:-0500
TZOFFSETTO:-0600
TZNAME:CST
DTSTART:20261101T070000
END:STANDARD
BEGIN:DAYLIGHT
TZOFFSETFROM:-0600
TZOFFSETTO:-0500
TZNAME:CDT
DTSTART:20270314T080000
END:DAYLIGHT
BEGIN:STANDARD
TZOFFSETFROM:-0500
TZOFFSETTO:-0600
TZNAME:CST
DTSTART:20271107T070000
END:STANDARD
END:VTIMEZONE
BEGIN:VEVENT
DTSTART;VALUE=DATE:20260131
DTEND;VALUE=DATE:20260205
DTSTAMP:20260422T075414
CREATED:20251230T142629Z
LAST-MODIFIED:20260116T192004Z
UID:12888-1769817600-1770249599@collectivedata.com
SUMMARY:National Sheriff's Association
DESCRIPTION:Booth #809				\n				\n				\n				\n									At the NSA Winter Conference in Washington\, DC\, you can join high-level leadership from federal agencies\, members of Congress\, and very active sheriffs who come together to explore current legislation\, learn about relevant topics\, and explore trending technologies and products.								\n				\n					\n		\n					\n		\n				\n						\n					\n			\n						\n				\n					Request your meeting with Collective Data Today!				\n				\n				\n				\n									Don’t miss the opportunity to see Collective Data in action. Book your meeting today! 								\n				\n				\n				\n									\n\n                					 \n \n						Δ\n						\n						\n\n					\n                        Name(Required)\n                            \n                            \n                                                    \n                                                    First\n                                                \n                            \n                            \n                                                    \n                                                    Last\n                                                \n                            \n                        Agency / Company Name(Required)Business Email(Required)\n                            \n                        Tell us more (questions\, priorities\, or sector):\n          \n            \n            \n            \n            \n            \n            \n            \n            \n            \n            \n            \n            \n            \n        \n                        \n                        \n								\n				\n					\n		\n				\n			\n						\n				\n																\n															\n															\n				\n					\n		\n					\n		\n				\n						\n					\n			\n						\n				\n									Stop by our booth for a chance to win a RTIC Cooler!
URL:https://collectivedata.com/event/nsa-winter-2026/
CATEGORIES:Trade Shows
ATTACH;FMTTYPE=image/png:https://collectivedata.com/wp-content/uploads/2025/12/Official-Conference-2-scaled.png
END:VEVENT
END:VCALENDAR