BEGIN:VCALENDAR
VERSION:2.0
PRODID:-//Collective Data - ECPv6.15.13//NONSGML v1.0//EN
CALSCALE:GREGORIAN
METHOD:PUBLISH
X-WR-CALNAME:Collective Data
X-ORIGINAL-URL:https://collectivedata.com
X-WR-CALDESC:Events for Collective Data
REFRESH-INTERVAL;VALUE=DURATION:PT1H
X-Robots-Tag:noindex
X-PUBLISHED-TTL:PT1H
BEGIN:VTIMEZONE
TZID:America/Chicago
BEGIN:DAYLIGHT
TZOFFSETFROM:-0600
TZOFFSETTO:-0500
TZNAME:CDT
DTSTART:20250309T080000
END:DAYLIGHT
BEGIN:STANDARD
TZOFFSETFROM:-0500
TZOFFSETTO:-0600
TZNAME:CST
DTSTART:20251102T070000
END:STANDARD
BEGIN:DAYLIGHT
TZOFFSETFROM:-0600
TZOFFSETTO:-0500
TZNAME:CDT
DTSTART:20260308T080000
END:DAYLIGHT
BEGIN:STANDARD
TZOFFSETFROM:-0500
TZOFFSETTO:-0600
TZNAME:CST
DTSTART:20261101T070000
END:STANDARD
BEGIN:DAYLIGHT
TZOFFSETFROM:-0600
TZOFFSETTO:-0500
TZNAME:CDT
DTSTART:20270314T080000
END:DAYLIGHT
BEGIN:STANDARD
TZOFFSETFROM:-0500
TZOFFSETTO:-0600
TZNAME:CST
DTSTART:20271107T070000
END:STANDARD
END:VTIMEZONE
BEGIN:VEVENT
DTSTART;TZID=America/Chicago:20260505T100000
DTEND;TZID=America/Chicago:20260505T110000
DTSTAMP:20260424T045623
CREATED:20260116T192209Z
LAST-MODIFIED:20260116T193918Z
UID:12948-1777975200-1777978800@collectivedata.com
SUMMARY:The Power of the Barcode: Turning Chaos into Clarity for Fleet and Assets
DESCRIPTION:From radios to patrol cars\, knowing what you have and where it is shouldn’t require guesswork. Learn how barcoding every asset — from consumables to capital equipment — helps agencies track items in seconds\, reduce shrinkage\, and improve audits. We’ll share real-world examples of how scanning workflows are modernizing fleet and asset operations. 								\n				\n				\n				\n									\n					\n						\n									Register for Webinar
URL:https://collectivedata.com/event/webinar-barcode/
CATEGORIES:Webinars
ATTACH;FMTTYPE=image/jpeg:https://collectivedata.com/wp-content/uploads/2026/01/Webinar-Thumbnail.jpg
END:VEVENT
END:VCALENDAR